BEGIN:VCALENDAR
VERSION:2.0
PRODID:-//ZENTRUM MENSCH – gemeinsam neue Wege gehen - ECPv6.15.11//NONSGML v1.0//EN
CALSCALE:GREGORIAN
METHOD:PUBLISH
X-ORIGINAL-URL:https://zentrum-mensch.de
X-WR-CALDESC:Veranstaltungen für ZENTRUM MENSCH – gemeinsam neue Wege gehen
REFRESH-INTERVAL;VALUE=DURATION:PT1H
X-Robots-Tag:noindex
X-PUBLISHED-TTL:PT1H
BEGIN:VTIMEZONE
TZID:Europe/Berlin
BEGIN:DAYLIGHT
TZOFFSETFROM:+0100
TZOFFSETTO:+0200
TZNAME:CEST
DTSTART:20230326T010000
END:DAYLIGHT
BEGIN:STANDARD
TZOFFSETFROM:+0200
TZOFFSETTO:+0100
TZNAME:CET
DTSTART:20231029T010000
END:STANDARD
BEGIN:DAYLIGHT
TZOFFSETFROM:+0100
TZOFFSETTO:+0200
TZNAME:CEST
DTSTART:20240331T010000
END:DAYLIGHT
BEGIN:STANDARD
TZOFFSETFROM:+0200
TZOFFSETTO:+0100
TZNAME:CET
DTSTART:20241027T010000
END:STANDARD
BEGIN:DAYLIGHT
TZOFFSETFROM:+0100
TZOFFSETTO:+0200
TZNAME:CEST
DTSTART:20250330T010000
END:DAYLIGHT
BEGIN:STANDARD
TZOFFSETFROM:+0200
TZOFFSETTO:+0100
TZNAME:CET
DTSTART:20251026T010000
END:STANDARD
END:VTIMEZONE
BEGIN:VEVENT
DTSTART;TZID=Europe/Berlin:20241107T190000
DTEND;TZID=Europe/Berlin:20241107T203000
DTSTAMP:20260421T105305
CREATED:20240917T113222Z
LAST-MODIFIED:20250216T221122Z
UID:10000371-1731006000-1731011400@zentrum-mensch.de
SUMMARY:Konfliktlösungen für Unternehmensnachfolge im Familienunternehmen
DESCRIPTION:Konflikte in der Unternehmensnachfolge im Familienunternehmen liegen in der Biografie begründet \nBIOGRAFIEN/ GENOGRAMME & ORGANIGRAMME SIND WIE FINGERABDRÜCKE \n„Genogramme sind wie Fingerabdrücke“ sie sind zum einen rein formal eine Sammlung von Fakten und Daten über die Familie eines Menschen und gleichermaßen verbergen sich in ihnen \n– die Geschichten\,\n– Erfahrungen und Wissen\,\n– die Gefühle\, Wünsche\,\n– Hoffnungen und Ängste und\n– Kindheitserlebnisse ( Inneres Kind )\n– ein Geflecht von Beziehungen\,\n– Bindungen und Verstrickungen der Familie. \nDurch das Entdecken und Offenlegen und vor allem durch das Aufspüren von Ressourcen und Stärken\, werden gute Alternativen gefunden\, um das eigene Wesen und somit auch eine Lösung für die Unternehmensnachfolge zu finden. Damit sind die Mitglieder der Familie nicht weiter „hilflos“ mit dem Familienschicksal „verstrickt“.\nRäume für persönliches Wachstum und die unternehmerische Zukunft eröffnen sich.
URL:https://zentrum-mensch.de/event/konfliktloesungen-fuer-unternehmensnachfolge-im-familienunternehmen-3/2024-11-07/
LOCATION:ZENTRUM MENSCH\, Dotzheimer Str. 11\, Wiesbaden\, Hessen\, 65185\, Deutschland
CATEGORIES:Vortrag,Vortrag & Diskussionsrunde
ATTACH;FMTTYPE=image/jpeg:https://zentrum-mensch.de/wp-content/uploads/2024/09/14A3097_1728044968723-e1730064737284.jpg
ORGANIZER;CN="Ines Rauscher":MAILTO:Ines@fluss-der-liebe.de
END:VEVENT
BEGIN:VEVENT
DTSTART;TZID=Europe/Berlin:20241105T100000
DTEND;TZID=Europe/Berlin:20241105T113000
DTSTAMP:20260421T105305
CREATED:20241024T223049Z
LAST-MODIFIED:20241029T094202Z
UID:10000427-1730800800-1730806200@zentrum-mensch.de
SUMMARY:Wie Sie mit Spaß sicher Ihr Smartphone bedienen lernen - WhatsApp - Frag Frau Kelly erklärt einfach und verständlich
DESCRIPTION:Für alle die ohne digitale Medien aufgewachsen sind\n\nNur wie?\nDas ist kein Hexenwerk.\nEs ist erlernbar – wie schreiben\, lesen und rechnen. \n\n\n\n\n\n\n\n\nGewusst wie. \nIn einer Kleingruppe zeige ich Ihnen wie Sie \n– verständlich\n– Schritt für Schritt\n– an Ihrem eignen Gerät \nmit Spaß sicher Ihr Smartphone bedienen. \n  \n\n\n\n\n\n\nThema: Umgang mit WhatsApp üben und vertiefen\n.\n\nAls Frag Frau Kelly – Digital Mentorin zeige ich Ihnen in einer Kleingruppe mit maximal 8 Teilnehmerinnen wie Sie – verständlich – Schritt für Schritt – an Ihrem eignen Gerät mit Spaß sicher wissen – wofür ist ein Status\, – was ist ein Kanal\, – per Video telefonieren\, – Nachrichten markieren\, weiterleiten… Außerdem ist auch ausreichend Raum für Ihre persönlichen Fragen.\nNur für Android Nutzer*innen.\n\n\n.\n\n\nLeitung:\nKirsten Kelly\nDigital Mentorin – Frag Frau Kelly\n.\nUm Anmeldung wird gebeten:\ntelefonisch oder per Email : hallo@fragfraukelly.de\n\n\n\n\n\n\nInsgesamt biete ich im November & Dezember 2024 fünf weitere Kurse zu verschiedenen Themen rund um Ihr Smartphone an – immer Dienstags um 10 Uhr im Zentrum Mensch.\n.\n\n\n\n\n\n\n\n\n\n05.11.2024\n10:00:00\nUmgang mit WhatsApp üben und vertiefen\n\n\n\n\n\n\n\n\n\n\n12.11.2024\n10:00:00\nIm Internet „googeln“ und finden\, was Sie suchen\n\n\n\n\n\n\n\n\n\n\n19.11.2024\n10:00:00\nAlles rund um das Thema „Fotos“ auf Ihrem Smartphone\n\n\n\n\n\n\n\n\n\n\n26.11.2024\n10:00:00\nDie Möglichkeiten der Digitale Karten am Smartphone entdecken\n\n\n\n\n\n\n\n\n\n\n03.12.2024\n10:00:00\nEntdecken Sie YouTube – ein wertvoller Alltagsbegleiter\n\n\n\n\n\n\n\n\n\n\n10.12.2024\n10:00:00\nUmgang mit Emails – Ihrem digitalen Postfach – auf dem Smartphone\n\n\n\n\n\n\n\n\n\n\n\n\n\n\n\n\n\n\n 
URL:https://zentrum-mensch.de/event/wie-sie-mit-spass-sicher-ihr-smartphone-bedienen-lernen-frag-frau-kelly-erklaert-einfach-und-verstaendlich/
LOCATION:ZENTRUM MENSCH\, Dotzheimer Str. 11\, Wiesbaden\, Hessen\, 65185\, Deutschland
ATTACH;FMTTYPE=image/jpeg:https://zentrum-mensch.de/wp-content/uploads/2024/10/IMG_0754-Kirsten-Kelly.jpg
ORGANIZER;CN="Kirsten Kelly":MAILTO:hallo@fragfraukelly.de
END:VEVENT
END:VCALENDAR