BEGIN:VCALENDAR
VERSION:2.0
PRODID:-//ZENTRUM MENSCH – gemeinsam neue Wege gehen - ECPv6.15.11//NONSGML v1.0//EN
CALSCALE:GREGORIAN
METHOD:PUBLISH
X-ORIGINAL-URL:https://zentrum-mensch.de
X-WR-CALDESC:Veranstaltungen für ZENTRUM MENSCH – gemeinsam neue Wege gehen
REFRESH-INTERVAL;VALUE=DURATION:PT1H
X-Robots-Tag:noindex
X-PUBLISHED-TTL:PT1H
BEGIN:VTIMEZONE
TZID:Europe/Berlin
BEGIN:DAYLIGHT
TZOFFSETFROM:+0100
TZOFFSETTO:+0200
TZNAME:CEST
DTSTART:20230326T010000
END:DAYLIGHT
BEGIN:STANDARD
TZOFFSETFROM:+0200
TZOFFSETTO:+0100
TZNAME:CET
DTSTART:20231029T010000
END:STANDARD
BEGIN:DAYLIGHT
TZOFFSETFROM:+0100
TZOFFSETTO:+0200
TZNAME:CEST
DTSTART:20240331T010000
END:DAYLIGHT
BEGIN:STANDARD
TZOFFSETFROM:+0200
TZOFFSETTO:+0100
TZNAME:CET
DTSTART:20241027T010000
END:STANDARD
BEGIN:DAYLIGHT
TZOFFSETFROM:+0100
TZOFFSETTO:+0200
TZNAME:CEST
DTSTART:20250330T010000
END:DAYLIGHT
BEGIN:STANDARD
TZOFFSETFROM:+0200
TZOFFSETTO:+0100
TZNAME:CET
DTSTART:20251026T010000
END:STANDARD
END:VTIMEZONE
BEGIN:VEVENT
DTSTART;TZID=Europe/Berlin:20240125T180000
DTEND;TZID=Europe/Berlin:20240125T203000
DTSTAMP:20260425T121658
CREATED:20240117T125546Z
LAST-MODIFIED:20240130T225952Z
UID:10000001-1706205600-1706214600@zentrum-mensch.de
SUMMARY:Netzwerktreffen Gesundheit der Stadt Wiesbaden
DESCRIPTION:Netzwerktreffen Gesundheit #9 der Stadt Wiesbaden\nUm ein bisschen mehr Zeit für den Austausch zu haben\, begrüßen wir Euch diesmal bereits 18:00 Uhr\, sodass mehr Zeit zum Ankommen und umschauen ist. \nGegen 18:30 wird die Hausherrin vom Zentrum Mensch\, Ines Rauscher\, kurz das Konzept hinter der Einrichtung ´Zentrum Mensch` und die dortigen Möglichkeiten vorstellen. \nAnschließend freuen wir uns besonders über den Impuls von Herrn Fabrice Pöhlmann: \nKundenakquise mit Behavioural Design\n– Wie du Verhaltenspsychologie & Kreativitätstechniken kombinierst\, um die Aufmerksamkeit deiner Kunden zu gewinnen – \nEr ist Mitgründer der HelloNew GmbH & Co. KG in Wiesbaden und mit dem Unternehmensteil HelloDesign ein echter Experte im Bereich Behavioural Design. Mit der Kombination aus Verhaltenswissenschaft & Design Thinking unterstützt er und sein Team Organisationen\, Startups\, Gründerinnen und Gründer digitale „Produkte“ zu entwickeln\, die menschliches Verhalten gezielt verändern. \nAusreichend Gelegenheit\, sich kennenzulernen und von der einen oder anderen Erfahrung zu profitieren planen wir natürlich wieder ein! \nWenn Ihr bei unserem Netzwerktreffen Gesundheit #9 dabei sein möchtet\, antwortet bzw. schreibt einfach bis zum 18.01.2024 eine kurze Mail an: existenzgruendung@wiesbaden.de. \nWir freuen uns auf Euch!
URL:https://zentrum-mensch.de/event/netzwerktreffen/
LOCATION:ZENTRUM MENSCH\, Dotzheimer Str. 11\, Wiesbaden\, Hessen\, 65185\, Deutschland
CATEGORIES:Netzwerktreffen
ATTACH;FMTTYPE=image/jpeg:https://zentrum-mensch.de/wp-content/uploads/2023/11/DSC9391.jpg
ORGANIZER;CN="Fabrice P%C3%B6hlmann":MAILTO:existenzgruendung@wiesbaden.de
END:VEVENT
END:VCALENDAR