BEGIN:VCALENDAR
VERSION:2.0
PRODID:-//ZENTRUM MENSCH – gemeinsam neue Wege gehen - ECPv6.15.11//NONSGML v1.0//EN
CALSCALE:GREGORIAN
METHOD:PUBLISH
X-WR-CALNAME:ZENTRUM MENSCH – gemeinsam neue Wege gehen
X-ORIGINAL-URL:https://zentrum-mensch.de
X-WR-CALDESC:Veranstaltungen für ZENTRUM MENSCH – gemeinsam neue Wege gehen
REFRESH-INTERVAL;VALUE=DURATION:PT1H
X-Robots-Tag:noindex
X-PUBLISHED-TTL:PT1H
BEGIN:VTIMEZONE
TZID:Europe/Berlin
BEGIN:DAYLIGHT
TZOFFSETFROM:+0100
TZOFFSETTO:+0200
TZNAME:CEST
DTSTART:20230326T010000
END:DAYLIGHT
BEGIN:STANDARD
TZOFFSETFROM:+0200
TZOFFSETTO:+0100
TZNAME:CET
DTSTART:20231029T010000
END:STANDARD
BEGIN:DAYLIGHT
TZOFFSETFROM:+0100
TZOFFSETTO:+0200
TZNAME:CEST
DTSTART:20240331T010000
END:DAYLIGHT
BEGIN:STANDARD
TZOFFSETFROM:+0200
TZOFFSETTO:+0100
TZNAME:CET
DTSTART:20241027T010000
END:STANDARD
BEGIN:DAYLIGHT
TZOFFSETFROM:+0100
TZOFFSETTO:+0200
TZNAME:CEST
DTSTART:20250330T010000
END:DAYLIGHT
BEGIN:STANDARD
TZOFFSETFROM:+0200
TZOFFSETTO:+0100
TZNAME:CET
DTSTART:20251026T010000
END:STANDARD
END:VTIMEZONE
BEGIN:VEVENT
DTSTART;TZID=Europe/Berlin:20240415T170000
DTEND;TZID=Europe/Berlin:20240415T180000
DTSTAMP:20260421T122211
CREATED:20240315T205339Z
LAST-MODIFIED:20240317T210114Z
UID:10000047-1713200400-1713204000@zentrum-mensch.de
SUMMARY:Einführung in 12 Brokate-Qigong
DESCRIPTION:12 Brokate-Qigong mit Midia Nuri – neuer Kurs Montags\, 15.04. bis 24.06.24  17 – 18 Uhr \nDie 12 bewegten Übungen aus der Wudang-Sanfeng-Tradition bringen mit Anspannung und Entspannung\, Atem und Konzentration sowie Dehnung die Gelenke und über die Wirbelsäule die inneren Organe in Bewegung und verbessern den Energiefluss durch den ganzen Körper durch gezielte Dehnung der Meridiane. Die Lebenskraft wird gestärkt\, der Mensch kommt ins Gleichgewicht. \nNach vollständiger Teilnahme ist eine Bezuschussung durch die Krankenkassen nach § 20 Abs. 1 SGB V möglich. Die Kassen handhaben diese unterschiedlich. Details erfragen Sie bitte bei Ihrer Krankenkasse. Eine Voraussetzung laut Zentraler Prüfstelle Prävention ist ein Mindestteilnehmerzahl von 6.\nHöchstteilnehmerzahl:8 \nSeminarleitung: Midia Nuri\, Qigong-Lehrerin \nUm Anmeldung wird gebeten.
URL:https://zentrum-mensch.de/event/einfuehrung-in-qigong-2/
LOCATION:ZENTRUM MENSCH\, Dotzheimer Str. 11\, Wiesbaden\, Hessen\, 65185\, Deutschland
CATEGORIES:Kurs
ATTACH;FMTTYPE=image/jpeg:https://zentrum-mensch.de/wp-content/uploads/2023/12/Yin-Yang-Fotolilia-66582126_XL-e1709587354825.jpg
ORGANIZER;CN="Midia Nuri":MAILTO:taijiquan-qigong-wiesbaden@gmx.de
END:VEVENT
BEGIN:VEVENT
DTSTART;TZID=Europe/Berlin:20240319T170000
DTEND;TZID=Europe/Berlin:20240319T180000
DTSTAMP:20260421T122211
CREATED:20240224T234027Z
LAST-MODIFIED:20240317T203338Z
UID:10000030-1710867600-1710871200@zentrum-mensch.de
SUMMARY:Einführung in Qigong
DESCRIPTION:Chan Mi Gong (Chan Mi Qigong) nach Liu Han Wen mit Midia Nuri – laufender Kurs Dienstags\, 16.01. bis 26.03.24\, 18.45 bis 19.45 Uhr \nIn den Basisübungen des tibetischen Chan Mi Gong lassen wir Wellen durch die Wirbelsäule laufen und lösen so die im Körper gespeicherte Spannung. Alle unsere Zellen haben ein Bewusstsein. \nSeminarinhalt:\nAtmen\, Stehen\, Natürlichkeit (Ziran)\, Die 4 Basisübungen aus dem Chan Mi Gong (Chan Mi Qigong). Enspannung \nDie einfachsten Übungen sind im Chan Mi Gong (Chan Mi Qigong) auch zugleich die „höchsten“ Übungen. Wir lassen Wellenbewegungen durch die Wirbelsäule und den Körper in alle Richtungen gehen und lösen so die in den Gelenken und Geweben unseres Körpers gespeicherten Spannungen. Verbrauchte Energie geben wir ab\, frische Energie nehmen wir zu uns – einatmend\, ausatmend. Der Mensch ist zwischen Himmel und Erde aufgespannt. Das Herz kann sich lösen. \nNach vollständiger Teilnahme ist eine Bezuschussung durch die Krankenkassen nach § 20 Abs. 1 SGB V möglich. Die Kassen handhaben diese unterschiedlich. Details erfragen Sie bitte bei Ihrer Krankenkasse. Eine Voraussetzung laut Zentraler Prüfstelle Prävention ist ein Mindestteilnehmerzahl von 6. \nSeminarleitung: Midia Nuri\, Qigong-Lehrerin \nUm Anmeldung wird gebeten.
URL:https://zentrum-mensch.de/event/einfuehrung-in-qigong/
LOCATION:ZENTRUM MENSCH\, Dotzheimer Str. 11\, Wiesbaden\, Hessen\, 65185\, Deutschland
CATEGORIES:Schnupperstunde
ATTACH;FMTTYPE=image/jpeg:https://zentrum-mensch.de/wp-content/uploads/2023/12/Yin-Yang-Fotolilia-66582126_XL-e1709587354825.jpg
ORGANIZER;CN="Midia Nuri":MAILTO:taijiquan-qigong-wiesbaden@gmx.de
END:VEVENT
BEGIN:VEVENT
DTSTART;TZID=Europe/Berlin:20240305T184500
DTEND;TZID=Europe/Berlin:20240305T194500
DTSTAMP:20260421T122211
CREATED:20240224T230851Z
LAST-MODIFIED:20240304T212555Z
UID:10000019-1709664300-1709667900@zentrum-mensch.de
SUMMARY:Einführung in die Selbstakupressur
DESCRIPTION:Vermittelt wird eine ebenso einfache wie umfassende Selbstakupressur-Routine entlang wichtiger Punkte der Hauptmeridiane für die Selbstbehandlung. Dabei geht es um das praktische Tun. Handout im Kurs.
URL:https://zentrum-mensch.de/event/einfuehrung-in-die-selbstakupressur/
LOCATION:ZENTRUM MENSCH\, Dotzheimer Str. 11\, Wiesbaden\, Hessen\, 65185\, Deutschland
CATEGORIES:Kurs
ATTACH;FMTTYPE=image/jpeg:https://zentrum-mensch.de/wp-content/uploads/2023/12/Yin-Yang-Fotolilia-66582126_XL-e1709587354825.jpg
ORGANIZER;CN="Midia Nuri":MAILTO:taijiquan-qigong-wiesbaden@gmx.de
END:VEVENT
BEGIN:VEVENT
DTSTART;TZID=Europe/Berlin:20240130T184500
DTEND;TZID=Europe/Berlin:20240130T194500
DTSTAMP:20260421T122211
CREATED:20240130T232525Z
LAST-MODIFIED:20240130T232525Z
UID:10000009-1706640300-1706643900@zentrum-mensch.de
SUMMARY:CHAN MI QIGONG KURS - 16.01. bis 26.03.24
DESCRIPTION:Chan Mi Gong (Chan Mi Qigong) nach Liu Han Wen mit Midia Nuri – Dienstags\, 16.01. bis 26.03.24\, 18.45 bis 19.45 Uhr \nIn den Basisübungen des tibetischen Chan Mi Gong lassen wir Wellen durch die Wirbelsäule laufen und lösen so die im Körper gespeicherte Spannung. Alle unsere Zellen haben ein Bewusstsein. \nSeminarinhalt:\nAtmen\, Stehen\, Natürlichkeit (Ziran)\, Die 4 Basisübungen aus dem Chan Mi Gong (Chan Mi Qigong). Enspannung \nDie einfachsten Übungen sind im Chan Mi Gong (Chan Mi Qigong) auch zugleich die „höchsten“ Übungen. Wir lassen Wellenbewegungen durch die Wirbelsäule und den Körper in alle Richtungen gehen und lösen so die in den Gelenken und Geweben unseres Körpers gespeicherten Spannungen. Verbrauchte Energie geben wir ab\, frische Energie nehmen wir zu uns – einatmend\, ausatmend. Der Mensch ist zwischen Himmel und Erde aufgespannt. Das Herz kann sich lösen. \nNach vollständiger Teilnahme ist eine Bezuschussung durch die Krankenkassen nach § 20 Abs. 1 SGB V möglich. Die Kassen handhaben diese unterschiedlich. Details erfragen Sie bitte bei Ihrer Krankenkasse. Eine Voraussetzung laut Zentraler Prüfstelle Prävention ist ein Mindestteilnehmerzahl von 6.
URL:https://zentrum-mensch.de/event/chan-mi-qigong-kurs-16-01-bis-26-03-24/
LOCATION:ZENTRUM MENSCH\, Dotzheimer Str. 11\, Wiesbaden\, Hessen\, 65185\, Deutschland
CATEGORIES:Kurs
ATTACH;FMTTYPE=image/jpeg:https://zentrum-mensch.de/wp-content/uploads/2024/01/WhatsApp-Bild-2024-01-13-um-18.18.10_594d76c9-e1706657093892.jpg
ORGANIZER;CN="Midia Nuri":MAILTO:taijiquan-qigong-wiesbaden@gmx.de
END:VEVENT
BEGIN:VEVENT
DTSTART;TZID=Europe/Berlin:20240130T173000
DTEND;TZID=Europe/Berlin:20240130T183000
DTSTAMP:20260421T122211
CREATED:20240130T232939Z
LAST-MODIFIED:20240130T233745Z
UID:10000010-1706635800-1706639400@zentrum-mensch.de
SUMMARY:BROKATE-QIGONG KURS - 16.01. bis 26.03.24
DESCRIPTION:12 Brokate Qigong (Wudang Sanfeng-Tradition) mit Midia Nuri – Dienstags\, 16.01. bis 26.03.24\, 17 bis 18.30 Uhr \nDie 12 bewegten Übungen aus der Wudang Sanfeng-Tradition verbessern mit sanfter Dehnung der Gelenke und Meridiane den Energiefluss durch den ganzen Körper. Der Mensch kommt ins Gleichgewicht. \nSeminarinhalt:\nAtmen\, Stehen\, Natürlichkeit (Ziran)\, 12 bewegte Qigong-Übungen (12 Brokate). Entspannung \nDie 12 bewegten Übungen aus der Wudang Sanfeng-Tradition bringen mit Anspannung und Entspannung\, Atem und Konzentration sowie Dehnung die Gelenke und über die Wirbelsäule die inneren Organe in Bewegung. Sie sorgen für eine tiefere Atmung und Entspannung und fördern den Energiefluss durch den ganzen Körper über die gezielte Dehnung der Meridiane. Gelenke\, Muskeln\, Sehnen und Energieleitbahnen werden durchlässig\, die Lebenskraft wird gestärkt und so mit der Zeit der ganze Mensch ins Gleichgewicht gebracht. Die 12 Brokate wirken so diversen zivilisationsbedingten Zipperlein und Erkrankungen entgegen wie z.B. Rückenschmerzen oder Stress und können auch manche Beschwerden lindern helfen. Zusätzlich wird eine leichte Aufwärm- und Bewegungsroutine vermittelt und im Kurs auch verspannungsfreies Stehen und Sitzen eingeübt – und damit Haltungen\, in denen die Teilnehmer vor oder nach der Übung und auch zwischendurch meditieren können. \nAußerdem grundlegende Atem- und Entspannungsübungen. \nNach vollständiger Teilnahme ist eine Bezuschussung durch die Krankenkassen nach § 20 Abs. 1 SGB V möglich. Die Kassen handhaben diese sehr unterschiedlich. Details erfragen Sie bitte bei Ihrer Krankenkasse. Eine Voraussetzung laut Zentraler Prüfstelle Prävention ist ein Mindestteilnehmerzahl von 6.
URL:https://zentrum-mensch.de/event/brokate-qigong-kurs-16-01-bis-26-03-24/
LOCATION:ZENTRUM MENSCH\, Dotzheimer Str. 11\, Wiesbaden\, Hessen\, 65185\, Deutschland
CATEGORIES:Kurs
ATTACH;FMTTYPE=image/jpeg:https://zentrum-mensch.de/wp-content/uploads/2023/12/Yin-Yang-Fotolilia-66582126_XL-e1709587354825.jpg
ORGANIZER;CN="Midia Nuri":MAILTO:taijiquan-qigong-wiesbaden@gmx.de
END:VEVENT
END:VCALENDAR