BEGIN:VCALENDAR
VERSION:2.0
PRODID:-//ZENTRUM MENSCH – gemeinsam neue Wege gehen - ECPv6.15.11//NONSGML v1.0//EN
CALSCALE:GREGORIAN
METHOD:PUBLISH
X-WR-CALNAME:ZENTRUM MENSCH – gemeinsam neue Wege gehen
X-ORIGINAL-URL:https://zentrum-mensch.de
X-WR-CALDESC:Veranstaltungen für ZENTRUM MENSCH – gemeinsam neue Wege gehen
REFRESH-INTERVAL;VALUE=DURATION:PT1H
X-Robots-Tag:noindex
X-PUBLISHED-TTL:PT1H
BEGIN:VTIMEZONE
TZID:Europe/Berlin
BEGIN:DAYLIGHT
TZOFFSETFROM:+0100
TZOFFSETTO:+0200
TZNAME:CEST
DTSTART:20230326T010000
END:DAYLIGHT
BEGIN:STANDARD
TZOFFSETFROM:+0200
TZOFFSETTO:+0100
TZNAME:CET
DTSTART:20231029T010000
END:STANDARD
BEGIN:DAYLIGHT
TZOFFSETFROM:+0100
TZOFFSETTO:+0200
TZNAME:CEST
DTSTART:20240331T010000
END:DAYLIGHT
BEGIN:STANDARD
TZOFFSETFROM:+0200
TZOFFSETTO:+0100
TZNAME:CET
DTSTART:20241027T010000
END:STANDARD
BEGIN:DAYLIGHT
TZOFFSETFROM:+0100
TZOFFSETTO:+0200
TZNAME:CEST
DTSTART:20250330T010000
END:DAYLIGHT
BEGIN:STANDARD
TZOFFSETFROM:+0200
TZOFFSETTO:+0100
TZNAME:CET
DTSTART:20251026T010000
END:STANDARD
END:VTIMEZONE
BEGIN:VEVENT
DTSTART;TZID=Europe/Berlin:20241108T183000
DTEND;TZID=Europe/Berlin:20241108T213000
DTSTAMP:20260423T145128
CREATED:20240616T212033Z
LAST-MODIFIED:20241029T094214Z
UID:10000256-1731090600-1731101400@zentrum-mensch.de
SUMMARY:Don't worry - Think happy !  Erlebe dich selbst...
DESCRIPTION:Erlebe und nutze die Kraft des bewussten Denkens\, Fühlens und Wahrnehmens für mehr Selbstbewusstsein\, emotionale Stabilität und ein erfülltes Leben \nMöchtest du wissen wie deine Gedanken\, Gefühle und Wahrnehmungen dein tägliches Leben beeinflussen? Willst du lernen\, wie du diese inneren Prozesse bewusst steuern kannst\, um dein volles Potenzial zu entfalten? Dann ist dieser exklusive Workshop genau das Richtige für dich! \nWas erwartet dich? \nIn meinem interaktiven Workshop tauchen wir tief in die faszinierende Welt des Denkens\, Fühlens und Wahrnehmens ein. \nDu wirst lernen… \n…Welche Kraft dein Unterbewusstsein hat und wie du darauf Einfluss nehmen kannst\n…mit welchen Techniken du deine Gedanken gezielt lenken und negative Denkmuster durchbrechen kannst\n…welche Kraftquellen in dir liegen und wie du jederzeit darauf zurückgreifen kannst\n…wie du mit unterschiedlichen Blickwinkeln dich und dein Gegenüber noch besser verstehen und somit auch deine Kommunikation verbessern kannst\n…wie du durch achtsames Wahrnehmen deine Sinne schärfen kannst um die Schönheit des gegenwärtigen Moments intensiv zu genießen \n\nZeit:            18.30 – ca. 21.30 Uhr\nOrt:             Zentrum Mensch  \nAnmeldung: info@lebens-chance.de\nKosten:        35\,- € pro Person\n\nSichere dir jetzt deinen Platz! \nErlebe inspirierende Stunden voller wertvoller Erkenntnisse und praktischer Übungen. Melde dich noch heute an und starte deine Reise zu einem bewussteren\, erfüllteren Leben. \nKontakt und Anmeldung: \nPer Email / WhatsApp / telefonisch unter \ninfo@lebens-chance.de \, 0176 / 16620479 \nIch freue mich darauf\, dich in meinem Workshop begrüßen zu dürfen und gemeinsam mit dir die transformative Kraft des Denkens\, Fühlens und Wahrnehmens zu entdecken! \nLiebe Grüße\,\nRamona Sesterheim \nBesuche auch gerne meine Internetseite www.lebens-chance.de \nYourLife.YourChance.Yourchoice \n 
URL:https://zentrum-mensch.de/event/dont-worry-think-happy-erlebe-dich-selbst-2/
LOCATION:ZENTRUM MENSCH\, Dotzheimer Str. 11\, Wiesbaden\, Hessen\, 65185\, Deutschland
ATTACH;FMTTYPE=image/jpeg:https://zentrum-mensch.de/wp-content/uploads/2024/05/WhatsApp-Bild-2024-05-22-um-15.37.01_0206a392-e1716842726187.jpg
END:VEVENT
BEGIN:VEVENT
DTSTART;TZID=Europe/Berlin:20240927T183000
DTEND;TZID=Europe/Berlin:20240927T213000
DTSTAMP:20260423T145128
CREATED:20240616T212001Z
LAST-MODIFIED:20240814T224337Z
UID:10000255-1727461800-1727472600@zentrum-mensch.de
SUMMARY:Don't worry - Think happy !  Erlebe dich selbst...
DESCRIPTION:Erlebe und nutze die Kraft des bewussten Denkens\, Fühlens und Wahrnehmens für mehr Selbstbewusstsein\, emotionale Stabilität und ein erfülltes Leben \nMöchtest du wissen wie deine Gedanken\, Gefühle und Wahrnehmungen dein tägliches Leben beeinflussen? Willst du lernen\, wie du diese inneren Prozesse bewusst steuern kannst\, um dein volles Potenzial zu entfalten? Dann ist dieser exklusive Workshop genau das Richtige für dich! \nWas erwartet dich? \nIn meinem interaktiven Workshop tauchen wir tief in die faszinierende Welt des Denkens\, Fühlens und Wahrnehmens ein. \nDu wirst lernen… \n…Welche Kraft dein Unterbewusstsein hat und wie du darauf Einfluss nehmen kannst\n…mit welchen Techniken du deine Gedanken gezielt lenken und negative Denkmuster durchbrechen kannst\n…welche Kraftquellen in dir liegen und wie du jederzeit darauf zurückgreifen kannst\n…wie du mit unterschiedlichen Blickwinkeln dich und dein Gegenüber noch besser verstehen und somit auch deine Kommunikation verbessern kannst\n…wie du durch achtsames Wahrnehmen deine Sinne schärfen kannst um die Schönheit des gegenwärtigen Moments intensiv zu genießen \n\nZeit:            18.30 – ca. 21.30 Uhr\nOrt:             Zentrum Mensch  \nAnmeldung: info@lebens-chance.de\nKosten:        35\,- € pro Person\n\nSichere dir jetzt deinen Platz! \nErlebe inspirierende Stunden voller wertvoller Erkenntnisse und praktischer Übungen. Melde dich noch heute an und starte deine Reise zu einem bewussteren\, erfüllteren Leben. \nKontakt und Anmeldung: \nPer Email / WhatsApp / telefonisch unter \ninfo@lebens-chance.de \, 0176 / 16620479 \nIch freue mich darauf\, dich in meinem Workshop begrüßen zu dürfen und gemeinsam mit dir die transformative Kraft des Denkens\, Fühlens und Wahrnehmens zu entdecken! \nLiebe Grüße\,\nRamona Sesterheim \nBesuche auch gerne meine Internetseite www.lebens-chance.de \nYourLife.YourChance.Yourchoice \n 
URL:https://zentrum-mensch.de/event/dont-worry-think-happy-erlebe-dich-selbst/
LOCATION:ZENTRUM MENSCH\, Dotzheimer Str. 11\, Wiesbaden\, Hessen\, 65185\, Deutschland
ATTACH;FMTTYPE=image/jpeg:https://zentrum-mensch.de/wp-content/uploads/2024/05/WhatsApp-Bild-2024-05-22-um-15.37.01_0206a392-e1716842726187.jpg
END:VEVENT
BEGIN:VEVENT
DTSTART;TZID=Europe/Berlin:20240628T183000
DTEND;TZID=Europe/Berlin:20240628T213000
DTSTAMP:20260423T145128
CREATED:20240517T004159Z
LAST-MODIFIED:20240616T211921Z
UID:10000231-1719599400-1719610200@zentrum-mensch.de
SUMMARY:Don't worry - Think happy !  Erlebe dich selbst...
DESCRIPTION:Erlebe und nutze die Kraft des bewussten Denkens\, Fühlens und Wahrnehmens für mehr Selbstbewusstsein\, emotionale Stabilität und ein erfülltes Leben \nMöchtest du wissen wie deine Gedanken\, Gefühle und Wahrnehmungen dein tägliches Leben beeinflussen? Willst du lernen\, wie du diese inneren Prozesse bewusst steuern kannst\, um dein volles Potenzial zu entfalten? Dann ist dieser exklusive Workshop genau das Richtige für dich! \nWas erwartet dich? \nIn meinem interaktiven Workshop tauchen wir tief in die faszinierende Welt des Denkens\, Fühlens und Wahrnehmens ein. \nDu wirst lernen… \n…Welche Kraft dein Unterbewusstsein hat und wie du darauf Einfluss nehmen kannst\n…mit welchen Techniken du deine Gedanken gezielt lenken und negative Denkmuster durchbrechen kannst\n…welche Kraftquellen in dir liegen und wie du jederzeit darauf zurückgreifen kannst\n…wie du mit unterschiedlichen Blickwinkeln dich und dein Gegenüber noch besser verstehen und somit auch deine Kommunikation verbessern kannst\n…wie du durch achtsames Wahrnehmen deine Sinne schärfen kannst um die Schönheit des gegenwärtigen Moments intensiv zu genießen \n\nDatum:        Freitag\, 28. Juni 2024\nZeit:            18.30 – ca. 21.30 Uhr\nOrt:             Zentrum Mensch  \nAnmeldung: info@lebens-chance.de\nKosten:        35\,- € pro Person\n\nSichere dir jetzt deinen Platz! \nErlebe inspirierende Stunden voller wertvoller Erkenntnisse und praktischer Übungen. Melde dich noch heute an und starte deine Reise zu einem bewussteren\, erfüllteren Leben. \nKontakt und Anmeldung: \nPer Email / WhatsApp / telefonisch unter \ninfo@lebens-chance.de \, 0176 / 16620479 \nIch freue mich darauf\, dich in meinem Workshop begrüßen zu dürfen und gemeinsam mit dir die transformative Kraft des Denkens\, Fühlens und Wahrnehmens zu entdecken! \nLiebe Grüße\,\nRamona Sesterheim \nBesuche auch gerne meine Internetseite www.lebens-chance.de \nYourLife.YourChance.Yourchoice \n 
URL:https://zentrum-mensch.de/event/preview-dont-worry-think-happy-erlebe-dich-selbst/
LOCATION:ZENTRUM MENSCH\, Dotzheimer Str. 11\, Wiesbaden\, Hessen\, 65185\, Deutschland
ATTACH;FMTTYPE=image/jpeg:https://zentrum-mensch.de/wp-content/uploads/2024/05/WhatsApp-Bild-2024-05-22-um-15.37.01_0206a392-e1716842726187.jpg
END:VEVENT
END:VCALENDAR